

BEGIN:VCALENDAR
VERSION:2.0
PRODID:-//16 Tech - ECPv6.6.4.2//NONSGML v1.0//EN
CALSCALE:GREGORIAN
METHOD:PUBLISH
X-WR-CALNAME:16 Tech
X-ORIGINAL-URL:https://16tech.com
X-WR-CALDESC:Events for 16 Tech
REFRESH-INTERVAL;VALUE=DURATION:PT1H
X-Robots-Tag:noindex
X-PUBLISHED-TTL:PT1H
BEGIN:VTIMEZONE
TZID:America/Indiana/Indianapolis
BEGIN:DAYLIGHT
TZOFFSETFROM:-0500
TZOFFSETTO:-0400
TZNAME:EDT
DTSTART:20250309T070000
END:DAYLIGHT
BEGIN:STANDARD
TZOFFSETFROM:-0400
TZOFFSETTO:-0500
TZNAME:EST
DTSTART:20251102T060000
END:STANDARD
END:VTIMEZONE
BEGIN:VEVENT
DTSTART;TZID=America/Indiana/Indianapolis:20250611T113000
DTEND;TZID=America/Indiana/Indianapolis:20250611T130000
DTSTAMP:20260423T060942
CREATED:20250520T233645Z
LAST-MODIFIED:20250520T233645Z
UID:227506-1749641400-1749646800@16tech.com
SUMMARY:Momentum: Legal + Financial Foundations for Founders
DESCRIPTION:  \n \n  \nJune Topic: Legal + Financial Foundations for Founders \n​Have an idea you want to explore? Need help taking your concept to the next level? Curious about early-stage entrepreneurship? Join us at 16 Tech for Momentum\, a monthly\, action-driven speaker series designed to engage and support early-stage entrepreneurs\, founders\, and small business owners. \n​Enjoy a lunch-and-learn with practical insights\, discussion and networking opportunities. The bonus? All registrants will enjoy free coworking from 9 AM – 5 PM the day of the Momentum. Sign up and we’ll be sure to save you a seat! \n\n\n\n\n\n\nLunch\, speaker presentation\, and networking will take place in Machyne at 16 Tech. 16 Tech has ample parking options (learn more at 16tech.com/explore/getting-here/) When you arrive\, please check in at the front desk of our coworking space located directly up the stairs across from Tinker Coffee at the AMP.
URL:https://16tech.com/event/momentum-legal-financial-foundations-for-founders/
LOCATION:Machyne Makerspace\, 1220 Waterway Blvd\, Indianapolis
END:VEVENT
BEGIN:VEVENT
DTSTART;TZID=America/Indiana/Indianapolis:20250611T180000
DTEND;TZID=America/Indiana/Indianapolis:20250611T200000
DTSTAMP:20260423T060942
CREATED:20250107T165525Z
LAST-MODIFIED:20250107T165525Z
UID:227413-1749664800-1749672000@16tech.com
SUMMARY:Woodshop Class: Simple Charcuterie/Cutting Board
DESCRIPTION:Explore the basics of woodworking in a fun and practical way at Machyne Makerspace! Our Woodshop Class is perfect for those looking to learn and create\, as you craft a simple yet elegant charcuterie/cutting board. \nWhat You’ll Learn and Do: Get familiar with essential woodworking terms\, shop policies\, and safety guidelines. \nWoodworking Foundations: Engage in a comprehensive safety introduction to ensure a safe workshop experience. \nSafety Walkthrough: Experience hands-on learning\, converting rough-sawn lumber into milled lumber using various woodshop tools. \nPractical Skills: Utilize basic woodworking techniques to craft a functional and stylish charcuterie/cutting board. \nFirst-Time Participants: Arrive 15 minutes early for a necessary safety waiver. \nPunctuality Policy: Late arrivals (more than 10 minutes) may not be accommodated. \nCancellation Notice: Please inform us at least 24 hours in advance if you are unable to attend. \nNo-Show Policy: No-call\, no-shows are non-refundable to ensure fairness and resource management. \nFor All Skill Levels.
URL:https://16tech.com/event/woodshop-class-simple-charcuterie-cutting-board-11/
LOCATION:Machyne Makerspace\, 1220 Waterway Blvd\, Indianapolis
END:VEVENT
BEGIN:VEVENT
DTSTART;TZID=America/Indiana/Indianapolis:20250614T110000
DTEND;TZID=America/Indiana/Indianapolis:20250614T173000
DTSTAMP:20260423T060942
CREATED:20250401T162413Z
LAST-MODIFIED:20250401T162413Z
UID:227475-1749898800-1749922200@16tech.com
SUMMARY:Machyne Makerspace Training Day
DESCRIPTION:Join us for an action-packed training day at Machyne Makerspace\, tailored for members and non members eager to quickly enhance their skills and obtain certification in a variety of workshop tools and digital fabrication equipment. \nWhat You’ll Learn: \nWelding: Receive an introduction to MIG welding\, focusing on basic techniques and metal finishing. \nCNC Routing: Learn about the capabilities of the ShopBot PRS Alpha CNC Router from initial setup to executing projects. \nLaser Engraving: Gain certification in operating our laser engravers\, the Boss HP3655 and Epilog Mini 24\, and explore engraving techniques. \nWoodshop: Get introduced to our woodworking tools and safety protocols while completing a practical project. \nPlasma Cutter: Obtain a concise yet comprehensive training on the safe and effective use of our plasma cutter. \nWaterjet: Understand how to operate the waterjet cutter\, a precise cutting technology. \nEvent Details: \nLocation: Machyne Makerspace\, 16 Tech Innovation District \nParticipants: Limited to 6 participants\, split into two groups of 3. \nPunctuality: Timely arrival is crucial as latecomers may miss essential introductory content. \nSafety: Safety training is provided to all participants\, and appropriate safety gear must be worn during the sessions. Refund Policy: Cancellations must be made at least 24 hours in advance to receive a refund. No-call\, no-shows are non-refundable. \nEmbark on this unique opportunity to boost your skills across multiple disciplines in just one day! Whether you’re starting your journey in making and crafting or looking to refine your skills\, this training day is designed to elevate your proficiency and confidence in using advanced equipment at Machyne Makerspace.
URL:https://16tech.com/event/machyne-makerspace-training-day-2/
LOCATION:IN
END:VEVENT
BEGIN:VEVENT
DTSTART;TZID=America/Indiana/Indianapolis:20250625T180000
DTEND;TZID=America/Indiana/Indianapolis:20250625T200000
DTSTAMP:20260423T060942
CREATED:20250107T165707Z
LAST-MODIFIED:20250107T165707Z
UID:227414-1750874400-1750881600@16tech.com
SUMMARY:CNC Catch All Tray Workshop
DESCRIPTION:Welcome to Machyne Makerspace’s CNC Catch All Tray Workshop! This class is a fantastic opportunity to delve into the world of CNC routing and create a beautiful hardwood catch-all tray. \nWhat You’ll Learn and Do: Craft a personalized tray from our selection of high-quality hardwoods. The size and design will vary\, allowing for a truly custom piece. \nUnique Catch-All Tray Creation: \n\nAchieve certification and learn to operate this sophisticated machine with confidence.\nExpertise on the Shopbot PRS Alpha CNC Router\nUnderstand machine operation\, safety protocols\, material handling\, bit changing\, setting origins & Z-Height\, and executing safe and effective jobs.\n\nComprehensive Skill Development: \nMachine Specs: ShopBot PRS Alpha: A versatile router with a large 5’x10′ cutting area and 13″ Z-height\, featuring a variable speed spindle to accommodate a wide range of projects. \nClass Details: Whether you’re a beginner or an experienced craftsman\, this workshop is designed for you. \nSafety First: All necessary safety equipment and thorough training will be provided. \nNew Student Policy: If this is your first class with us\, please arrive 15 minutes early to complete a safety waiver. \nLate arrivals: (more than 10 minutes past the start time) may not be able to join the class. \nCancellation Notice: Please inform us at least 24 hours in advance if you are unable to attend. No-call\, No-Shows are non-refundable to ensure fairness and resource management. \nEmbark on a creative journey with us and craft a unique hardwood catch-all tray that’s both functional and stylish!
URL:https://16tech.com/event/cnc-catch-all-tray-workshop-6/
LOCATION:Machyne Makerspace\, 1220 Waterway Blvd\, Indianapolis
END:VEVENT
END:VCALENDAR