

BEGIN:VCALENDAR
VERSION:2.0
PRODID:-//16 Tech - ECPv6.6.4.2//NONSGML v1.0//EN
CALSCALE:GREGORIAN
METHOD:PUBLISH
X-ORIGINAL-URL:https://16tech.com
X-WR-CALDESC:Events for 16 Tech
REFRESH-INTERVAL;VALUE=DURATION:PT1H
X-Robots-Tag:noindex
X-PUBLISHED-TTL:PT1H
BEGIN:VTIMEZONE
TZID:America/Indiana/Indianapolis
BEGIN:DAYLIGHT
TZOFFSETFROM:-0500
TZOFFSETTO:-0400
TZNAME:EDT
DTSTART:20250309T070000
END:DAYLIGHT
BEGIN:STANDARD
TZOFFSETFROM:-0400
TZOFFSETTO:-0500
TZNAME:EST
DTSTART:20251102T060000
END:STANDARD
END:VTIMEZONE
BEGIN:VEVENT
DTSTART;TZID=America/Indiana/Indianapolis:20250510T180000
DTEND;TZID=America/Indiana/Indianapolis:20250510T200000
DTSTAMP:20260423T080829
CREATED:20250107T165146Z
LAST-MODIFIED:20250107T165146Z
UID:227411-1746900000-1746907200@16tech.com
SUMMARY:Plate & Create: Charcuterie Boards Social Class
DESCRIPTION:Join us at Machyne Makerspace for an evening that combines the art of woodworking with the culinary delights of curating a charcuterie board. \nThis special event is designed for couples looking for a creative and delicious date night experience. \nWhat You’ll Experience: \nWoodworking Session: Start the evening with an introduction to woodworking where you and your partner will transform rough sawn lumber into a beautiful piece of art. Each couple will create one charcuterie board\, learning the basics of woodworking and leaving with a functional creation. \nCharcuterie Board Curating Experience: After your woodworking session\, enjoy learning how to plate and curate your own charcuterie board. This experience includes a selection of assorted charcuterie\, cheeses\, and condiments. Event \nDetails: \nLocation: Machyne Makerspace\, 16 Tech Innovation District \nDress Code: Please wear closed-toe shoes for safety during the woodworking session. \nTickets: Designed for couples. Purchase two tickets to secure a spot for this unique experience. \nSafety Note: While working in the Machyne Makerspace\, safety is our priority. All participants must adhere to our safety guidelines\, including wearing closed-toed shoes. \nThis evening promises not just a date night\, but an opportunity to learn new skills\, indulge in delicious treats\, and leave with a handmade reminder of your experience. Spaces are limited\, so register early to ensure your spot in this one-of-a-kind event!
URL:https://16tech.com/event/plate-create-charcuterie-boards-social-class-2/
LOCATION:Machyne Makerspace\, 1220 Waterway Blvd\, Indianapolis
END:VEVENT
BEGIN:VEVENT
DTSTART;TZID=America/Indiana/Indianapolis:20250514T113000
DTEND;TZID=America/Indiana/Indianapolis:20250514T130000
DTSTAMP:20260423T080829
CREATED:20250506T172422Z
LAST-MODIFIED:20250506T172422Z
UID:227499-1747222200-1747227600@16tech.com
SUMMARY:Momentum: Finding Your Business Model + First Customers
DESCRIPTION:​ \n \n  \nMomentum is a new monthly speaker series at 16 Tech designed for early-stage entrepreneurs\, small business owners\, and side-hustlers who want to take real steps toward growing their business. \n​Each session includes lunch\, an engaging conversation with experienced founders or experts\, and a fre \ne day of coworking—all focused on giving you something you can act on right away. \n​Join us on Wednesday\, May 14 for our kickoff session:\nFinding Your Business Model & First Customers \n​Featured Speaker\, Jeanette Renshaw\, GrowthX \n​We’ll talk about: \n\n​What makes a strong business model (and how to test yours)\n​How to find and connect with your first paying customers\n​How to refine your offer based on real feedback\n\n​Whether you’re still figuring out your idea or you’ve launched and want more traction\, this session will help you move forward—with practical advice and a chance to connect with others building great things in Indy. \n​Free to attend – lunch provided and free coworking all day at 16 Tech. Space is limited\, so reserve your spot early. \nFree Coworking – Enjoy a day of free coworking before and after the session. \nLunch\, speaker presentation\, and networking will take place in Machyne at 16 Tech. 16 Tech has ample parking options (learn more at 16tech.com/explore/getting-here/) When you arrive\, please check in at the front desk of our coworking space located directly up the stairs across from Tinker Coffee at the AMP.
URL:https://16tech.com/event/momentum-finding-your-business-model-first-customers/
LOCATION:Machyne Makerspace\, 1220 Waterway Blvd\, Indianapolis
END:VEVENT
END:VCALENDAR