

BEGIN:VCALENDAR
VERSION:2.0
PRODID:-//16 Tech - ECPv6.6.4.2//NONSGML v1.0//EN
CALSCALE:GREGORIAN
METHOD:PUBLISH
X-ORIGINAL-URL:https://16tech.com
X-WR-CALDESC:Events for 16 Tech
REFRESH-INTERVAL;VALUE=DURATION:PT1H
X-Robots-Tag:noindex
X-PUBLISHED-TTL:PT1H
BEGIN:VTIMEZONE
TZID:America/Indiana/Indianapolis
BEGIN:DAYLIGHT
TZOFFSETFROM:-0500
TZOFFSETTO:-0400
TZNAME:EDT
DTSTART:20260308T070000
END:DAYLIGHT
BEGIN:STANDARD
TZOFFSETFROM:-0400
TZOFFSETTO:-0500
TZNAME:EST
DTSTART:20261101T060000
END:STANDARD
END:VTIMEZONE
BEGIN:VEVENT
DTSTART;TZID=America/Indiana/Indianapolis:20260429T110000
DTEND;TZID=America/Indiana/Indianapolis:20260429T140000
DTSTAMP:20260424T115405
CREATED:20260414T141214Z
LAST-MODIFIED:20260414T141214Z
UID:227773-1777460400-1777471200@16tech.com
SUMMARY:  Prospanica Career Fair
DESCRIPTION: Prospanica Indianapolis Career Fair Join us for a fantastic opportunity to network with top companies in the Indianapolis area at the Prospanica Indianapolis Career Fair! Whether you are a recent graduate or a seasoned professional\, this event is perfect for anyone looking to advance their career. The fair will be held in person at The AMP at 16 Tech\, providing a vibrant and dynamic atmosphere for you to connect with potential employers. Don’t miss out on this chance to take the next step in your career!\n 
URL:https://16tech.com/event/prospanica-career-fair/
LOCATION:The AMP\, 1220 Waterway Blvd\, Indianapolis\, IN
CATEGORIES:The AMP
END:VEVENT
BEGIN:VEVENT
DTSTART;TZID=America/Indiana/Indianapolis:20260429T180000
DTEND;TZID=America/Indiana/Indianapolis:20260429T200000
DTSTAMP:20260424T115405
CREATED:20260407T164910Z
LAST-MODIFIED:20260407T164910Z
UID:227769-1777485600-1777492800@16tech.com
SUMMARY:Woodshop Class: Simple Charcuterie/Cutting Board
DESCRIPTION:Explore the basics of woodworking in a fun and practical way at Machyne Makerspace! \n\n\n\n\nOur Woodshop Class is perfect for those looking to learn and create\, as you craft a simple yet elegant charcuterie/cutting board. \nWhat You’ll Learn and Do:\nGet familiar with essential woodworking terms\, shop policies\, and safety guidelines.\nWoodworking Foundations: Engage in a comprehensive safety introduction to ensure a safe workshop experience.\nHands-On Skills: Convert rough-sawn lumber into milled lumber using various woodshop tools and apply basic woodworking techniques to create your board.\nClass Details:\n– Suitable for all levels\, whether you’re a complete beginner or looking to build confidence in the woodshop.\n– First-time participants must arrive 15 minutes early to complete a required safety waiver.\n– Late arrivals (more than 10 minutes) may not be accommodated.\n– Please provide at least 24 hours’ notice for cancellations. No-call\, no-shows are non-refundable.
URL:https://16tech.com/event/woodshop-class-simple-charcuterie-cutting-board-15/
LOCATION:Machyne Makerspace\, 1220 Waterway Blvd\, Indianapolis
CATEGORIES:Machyne
END:VEVENT
BEGIN:VEVENT
DTSTART;TZID=America/Indiana/Indianapolis:20260506T160000
DTEND;TZID=America/Indiana/Indianapolis:20260506T180000
DTSTAMP:20260424T115405
CREATED:20260423T143753Z
LAST-MODIFIED:20260423T143753Z
UID:227774-1778083200-1778090400@16tech.com
SUMMARY:16 Tech Porch Party
DESCRIPTION:Start your engines at 16 Tech during one of ten Porch Party stops across Indiana! \n\n\n\n\nHosted in partnership with the Indianapolis Motor Speedway\, join us for live entertainment\, games\, activities\, and more. \nYou’ll have a chance to win Grand Prix tickets\, test your knowledge with race trivia\, watch highlights from classic races\, and connect with district tenants and community members. The IMS will also be handing out kits to help get your house race-ready. \nEach guest will receive a complimentary drink ticket. \nPlus\, grab a bite from your favorite AMP vendors before\, during or after the party! 🏁
URL:https://16tech.com/event/16-tech-porch-party-2/
LOCATION:16 Tech Innovation District\, 1220 Waterway Boulevard\, Indianapolis\, IN\, 46202\, United States
CATEGORIES:The AMP
END:VEVENT
BEGIN:VEVENT
DTSTART;TZID=America/Indiana/Indianapolis:20260506T180000
DTEND;TZID=America/Indiana/Indianapolis:20260506T200000
DTSTAMP:20260424T115405
CREATED:20260407T165600Z
LAST-MODIFIED:20260407T165600Z
UID:227770-1778090400-1778097600@16tech.com
SUMMARY:Laser Engraving Class: Certification & Leather Keychain
DESCRIPTION:Dive into the world of laser engraving with our unique\, project-focused class at Machyne Makerspace! \n\n\n\n\nThis project-focused class blends hands-on learning with creativity\, making it ideal for both beginners and experienced makers. \nWhat You’ll Learn and Do:\nComprehensive Training: Get certified on two state-of-the-art laser engravers — the Boss HP3655 (33.5″ x 55″\, 150-watt) for larger projects and the Epilog Mini 24 (12″ x 24″\, 60-watt) for smaller\, detailed work.\nVersatile Techniques: Explore cutting wood and plastics\, 2D engraving\, rotary engraving\, and more.\nHands-On Project: Create up to two personalized laser-engraved leather keychains to take home. \nClass Details:\nSuitable for all levels\, whether you’re just starting out or expanding your skills.\nFirst-time participants must arrive 15 minutes early to complete a required liability waiver.\nLate arrivals (more than 10 minutes) may not be able to participate.\nPlease provide at least 24 hours’ notice for cancellations. No-call\, no-shows are non-refundable.
URL:https://16tech.com/event/laser-engraving-class-certification-leather-keychain-14/
LOCATION:Machyne Makerspace\, 1220 Waterway Blvd\, Indianapolis
CATEGORIES:Machyne
END:VEVENT
BEGIN:VEVENT
DTSTART;TZID=America/Indiana/Indianapolis:20260515T180000
DTEND;TZID=America/Indiana/Indianapolis:20260515T220000
DTSTAMP:20260424T115405
CREATED:20260306T145509Z
LAST-MODIFIED:20260306T145509Z
UID:227743-1778868000-1778882400@16tech.com
SUMMARY:Pitch a Single Friend
DESCRIPTION:16 of the most eligible singles will have their best friend pitching them to a crowd of 150+ mostly single people.
URL:https://16tech.com/event/pitch-a-single-friend/
LOCATION:The AMP\, 1220 Waterway Blvd\, Indianapolis\, IN
CATEGORIES:The AMP
END:VEVENT
BEGIN:VEVENT
DTSTART;TZID=America/Indiana/Indianapolis:20260606T120000
DTEND;TZID=America/Indiana/Indianapolis:20260606T200000
DTSTAMP:20260424T115405
CREATED:20260402T171029Z
LAST-MODIFIED:20260402T171029Z
UID:227766-1780747200-1780776000@16tech.com
SUMMARY:Trans Pride Fest
DESCRIPTION:This event is an annual get together for transgender nonconforming people and those who support them in our allies to come and celebrate our trans community!
URL:https://16tech.com/event/trans-pride-fest/
LOCATION:The AMP\, 1220 Waterway Blvd\, Indianapolis\, IN
CATEGORIES:The AMP
END:VEVENT
BEGIN:VEVENT
DTSTART;TZID=America/Indiana/Indianapolis:20260613T130000
DTEND;TZID=America/Indiana/Indianapolis:20260613T153000
DTSTAMP:20260424T115405
CREATED:20260407T171221Z
LAST-MODIFIED:20260407T171221Z
UID:227772-1781355600-1781364600@16tech.com
SUMMARY:Welding & CNC Plasma Cutter Workshop
DESCRIPTION:Discover the art of welding at Machyne Makerspace! \n\n\n\n\nJoin our welding workshop perfect for both beginners and experienced welders. \nWhat You’ll Learn and Do: \nMetal Fabrication: Master basic techniques\, including cutting square tube stock using a cold saw\, chop saw\, and angle grinder. \nMIG Welding: Experience hands-on MIG welding with a Lincoln Electric Easy MIG 180\, practicing tack welds and beads. \nFinishing Skills: Get tips on fixing materials\, cleaning up welds\, and applying finishes. \nProject: Create a stylish set of bookends with pre-cut designs from our plasma cutter. \nClass Details: Skill Level: Suitable for all\, from beginners to seasoned welders. \nSafety Gear Provided: Ensuring a safe and conducive learning environment. Please wear closed-toe shoes and clothing you’re okay with getting dirty. \nEarly Arrival: First-timers\, please arrive 15 minutes early for orientation. \nPunctuality Policy: Late arrivals (more than 10 minutes) may not be able to participate. Refund Policy: \nCancellation Notice: Please inform us at least 24 hours in advance if you are unable to attend. \nNo-Show Policy: No-call\, no-shows are non-refundable to ensure fairness and resource management. Spaces are limited! Join us to transform metal into functional art and take home your creation.
URL:https://16tech.com/event/welding-cnc-plasma-cutter-workshop-4/
LOCATION:Machyne Makerspace\, 1220 Waterway Blvd\, Indianapolis
CATEGORIES:Machyne
END:VEVENT
END:VCALENDAR