

BEGIN:VCALENDAR
VERSION:2.0
PRODID:-//16 Tech - ECPv6.6.4.2//NONSGML v1.0//EN
CALSCALE:GREGORIAN
METHOD:PUBLISH
X-WR-CALNAME:16 Tech
X-ORIGINAL-URL:https://16tech.com
X-WR-CALDESC:Events for 16 Tech
REFRESH-INTERVAL;VALUE=DURATION:PT1H
X-Robots-Tag:noindex
X-PUBLISHED-TTL:PT1H
BEGIN:VTIMEZONE
TZID:America/Indiana/Indianapolis
BEGIN:DAYLIGHT
TZOFFSETFROM:-0500
TZOFFSETTO:-0400
TZNAME:EDT
DTSTART:20260308T070000
END:DAYLIGHT
BEGIN:STANDARD
TZOFFSETFROM:-0400
TZOFFSETTO:-0500
TZNAME:EST
DTSTART:20261101T060000
END:STANDARD
END:VTIMEZONE
BEGIN:VEVENT
DTSTART;TZID=America/Indiana/Indianapolis:20260304T180000
DTEND;TZID=America/Indiana/Indianapolis:20260304T200000
DTSTAMP:20260421T174648
CREATED:20260106T184950Z
LAST-MODIFIED:20260106T184950Z
UID:227710-1772647200-1772654400@16tech.com
SUMMARY:CNC Catch All Tray Workshop
DESCRIPTION:Welcome to Machyne Makerspace’s CNC Catch All Tray Workshop!\n\n\n\nThis class is a fantastic opportunity to delve into the world of CNC routing and create a beautiful hardwood catch-all tray. \nUnique Catch-All Tray Creation: Craft a personalized tray from our selection of high-quality hardwoods. The size and design will vary\, allowing for a truly custom piece. \nWhat You’ll Learn and Do : Achieve certification and learn to operate this sophisticated machine with confidence. Expertise on the Shopbot PRS Alpha CNC Router Understand machine operation\, safety protocols\, material handling\, bit changing\, setting origins & Z-Height\, and executing safe and effective jobs. \nComprehensive Skill Development: Machine Specs: ShopBot PRS Alpha: A versatile router with a large 5’x10′ cutting area and 13″ Z-height\, featuring a variable speed spindle to accommodate a wide range of projects. \nClass Details: Whether you’re a beginner or an experienced craftsman\, this workshop is designed for you. For All Skill Levels \nSafety First: All necessary safety equipment and thorough training will be provided. : \nEarly Arrival for New Participants: If this is your first class with us\, please arrive 15 minutes early to complete a safety waiver. \nPunctuality Policy: Early Arrival for New Participants: If this is your first class with us\, please arrive 15 minutes early to complete a safety waiver. Late arrivals (more than 10 minutes past the start time) may not be able to join the class. \nCancellation Notice: Please inform us at least 24 hours in advance if you are unable to attend. \nRefund Policy: No-call\, no-No-Show Policy shows are non-refundable to ensure fairness and resource management \nEmbark on a creative journey with us and craft a unique hardwood catch-all tray that’s both functional and stylish!
URL:https://16tech.com/event/cnc-catch-all-tray-workshop-9/
LOCATION:Machyne Makerspace\, 1220 Waterway Blvd\, Indianapolis
CATEGORIES:Machyne
END:VEVENT
BEGIN:VEVENT
DTSTART;TZID=America/Indiana/Indianapolis:20260314T130000
DTEND;TZID=America/Indiana/Indianapolis:20260314T153000
DTSTAMP:20260421T174648
CREATED:20260106T185227Z
LAST-MODIFIED:20260106T185305Z
UID:227711-1773493200-1773502200@16tech.com
SUMMARY:Welding & CNC Plasma Cutter Workshop
DESCRIPTION:Discover the art of welding at Machyne Makerspace! \n\n\n\n\nJoin our welding workshop and craft a set of unique bookends\, perfect for both beginners and experienced welders. \nWhat You’ll Learn and Do: \nMetal Fabrication: Master basic techniques\, including cutting square tube stock using a cold saw\, chop saw\, and angle grinder. \nMIG Welding: Experience hands-on MIG welding with a Lincoln Electric Easy MIG 180\, practicing tack welds and beads. \nFinishing Skills: Get tips on fixing materials\, cleaning up welds\, and applying finishes. \nProject: Create a stylish set of bookends with pre-cut designs from our plasma cutter. \nClass Details: Skill Level: Suitable for all\, from beginners to seasoned welders. \nSafety Gear Provided: Ensuring a safe and conducive learning environment. Please wear closed-toe shoes and clothing you’re okay with getting dirty. \nEarly Arrival: First-timers\, please arrive 15 minutes early for orientation. \nPunctuality Policy: Late arrivals (more than 10 minutes) may not be able to participate. Refund Policy: \nCancellation Notice: Please inform us at least 24 hours in advance if you are unable to attend. \nNo-Show Policy: No-call\, no-shows are non-refundable to ensure fairness and resource management. Spaces are limited! Join us to transform metal into functional art and take home your creation.
URL:https://16tech.com/event/welding-cnc-plasma-cutter-workshop-3/
LOCATION:Machyne Makerspace\, 1220 Waterway Blvd\, Indianapolis
CATEGORIES:Machyne
ATTACH;FMTTYPE=image/jpeg:https://16tech.com/wp-content/uploads/2024/12/Welding.jpg
END:VEVENT
END:VCALENDAR