

BEGIN:VCALENDAR
VERSION:2.0
PRODID:-//16 Tech - ECPv6.6.4.2//NONSGML v1.0//EN
CALSCALE:GREGORIAN
METHOD:PUBLISH
X-WR-CALNAME:16 Tech
X-ORIGINAL-URL:https://16tech.com
X-WR-CALDESC:Events for 16 Tech
REFRESH-INTERVAL;VALUE=DURATION:PT1H
X-Robots-Tag:noindex
X-PUBLISHED-TTL:PT1H
BEGIN:VTIMEZONE
TZID:America/Indiana/Indianapolis
BEGIN:DAYLIGHT
TZOFFSETFROM:-0500
TZOFFSETTO:-0400
TZNAME:EDT
DTSTART:20260308T070000
END:DAYLIGHT
BEGIN:STANDARD
TZOFFSETFROM:-0400
TZOFFSETTO:-0500
TZNAME:EST
DTSTART:20261101T060000
END:STANDARD
END:VTIMEZONE
BEGIN:VEVENT
DTSTART;TZID=America/Indiana/Indianapolis:20260321T080000
DTEND;TZID=America/Indiana/Indianapolis:20260321T170000
DTSTAMP:20260422T145404
CREATED:20260305T170449Z
LAST-MODIFIED:20260305T170449Z
UID:227755-1774080000-1774112400@16tech.com
SUMMARY:March Madness Watch Party
DESCRIPTION:Get ready for the best time of the year at The AMP! 🏀 \nJoin us March 17 through April 6 as we stream all the tournament action on the big screens. Grab your crew\, order from your favorite AMP vendors\, and catch every buzzer-beater\, upset\, and bracket-buster with us. \nWe’ll have food and drink specials\, games\, and entertainment throughout the tournament — plus live DJ sets on March 20\, March 27\, April 3\, and April 6 to keep the energy high between matchups. \nBasketball. Food. Fun.
URL:https://16tech.com/event/march-madness-watch-party-6/
LOCATION:The AMP\, 1220 Waterway Blvd\, Indianapolis\, IN
CATEGORIES:The AMP
END:VEVENT
BEGIN:VEVENT
DTSTART;TZID=America/Indiana/Indianapolis:20260321T090000
DTEND;TZID=America/Indiana/Indianapolis:20260321T123000
DTSTAMP:20260422T145404
CREATED:20251120T171256Z
LAST-MODIFIED:20251120T171256Z
UID:227691-1774083600-1774096200@16tech.com
SUMMARY:Indy Winter Farmers Market
DESCRIPTION:Come out to the Indy Winter Farmers Market every Saturday from 9am – 12:30pm\, until April 25th. With over 50 vendors\, there is a little something for everyone!
URL:https://16tech.com/event/indy-winter-farmers-market-90/
LOCATION:The AMP\, 1220 Waterway Blvd\, Indianapolis\, IN
END:VEVENT
END:VCALENDAR