

BEGIN:VCALENDAR
VERSION:2.0
PRODID:-//16 Tech - ECPv6.6.4.2//NONSGML v1.0//EN
CALSCALE:GREGORIAN
METHOD:PUBLISH
X-ORIGINAL-URL:https://16tech.com
X-WR-CALDESC:Events for 16 Tech
REFRESH-INTERVAL;VALUE=DURATION:PT1H
X-Robots-Tag:noindex
X-PUBLISHED-TTL:PT1H
BEGIN:VTIMEZONE
TZID:America/Indiana/Indianapolis
BEGIN:DAYLIGHT
TZOFFSETFROM:-0500
TZOFFSETTO:-0400
TZNAME:EDT
DTSTART:20240310T070000
END:DAYLIGHT
BEGIN:STANDARD
TZOFFSETFROM:-0400
TZOFFSETTO:-0500
TZNAME:EST
DTSTART:20241103T060000
END:STANDARD
END:VTIMEZONE
BEGIN:VEVENT
DTSTART;TZID=America/Indiana/Indianapolis:20241004T113000
DTEND;TZID=America/Indiana/Indianapolis:20241004T143000
DTSTAMP:20260420T170543
CREATED:20240919T143947Z
LAST-MODIFIED:20240919T143947Z
UID:227174-1728041400-1728052200@16tech.com
SUMMARY:Panel: AI in Manufacturing Across Smart Corridor of America: Next Generation of Smartness for Supply Chain
DESCRIPTION:Presented by Purdue Engineering\, Conexus and AnalytiXin\, this panel will highlight advances and initiatives launched across I-65/I-75\, a manufacturing and supply chain corridor of America. Significant advances are being made across states such as Indiana\, Michigan\, Illinois\, Ohio\, Georgia\, and Tennessee. This panel will intentionally attempt to be inclusive in building the manufacturing and supply chain bridges across these states and hear highlights of their initiatives. Register for free using the link below. \nAgenda for Day: \n11:30 – 11:45 a.m. – Registration\n11:45 a.m. – 12:45 p.m. – Lunch\n1:00 p.m. – Welcome by Ajay P. Malshe*\n1:10 p.m. – Announcement of XMO: eXcellence in Manufacturing and Operations\n1:20 – 2:20 p.m. – Panel on …\n2:20 – 2:30 p.m. – Conclusion by Stephan Biller* \n(* Co-Directors of XMO: eXcellence in Manufacturing and Operations initiative at Purdue University)
URL:https://16tech.com/event/panel-ai-in-manufacturing-across-smart-corridor-of-america-next-generation-of-smartness-for-supply-chain/
LOCATION:16 Tech Innovation District\, 1220 Waterway Boulevard\, Indianapolis\, IN\, 46202\, United States
END:VEVENT
END:VCALENDAR