

BEGIN:VCALENDAR
VERSION:2.0
PRODID:-//16 Tech - ECPv6.6.4.2//NONSGML v1.0//EN
CALSCALE:GREGORIAN
METHOD:PUBLISH
X-ORIGINAL-URL:https://16tech.com
X-WR-CALDESC:Events for 16 Tech
REFRESH-INTERVAL;VALUE=DURATION:PT1H
X-Robots-Tag:noindex
X-PUBLISHED-TTL:PT1H
BEGIN:VTIMEZONE
TZID:America/Indiana/Indianapolis
BEGIN:DAYLIGHT
TZOFFSETFROM:-0500
TZOFFSETTO:-0400
TZNAME:EDT
DTSTART:20240310T070000
END:DAYLIGHT
BEGIN:STANDARD
TZOFFSETFROM:-0400
TZOFFSETTO:-0500
TZNAME:EST
DTSTART:20241103T060000
END:STANDARD
END:VTIMEZONE
BEGIN:VEVENT
DTSTART;TZID=America/Indiana/Indianapolis:20241002T123000
DTEND;TZID=America/Indiana/Indianapolis:20241002T133000
DTSTAMP:20260422T070436
CREATED:20240912T134206Z
LAST-MODIFIED:20240912T134206Z
UID:227137-1727872200-1727875800@16tech.com
SUMMARY:Mirror Indy Community Office Hours
DESCRIPTION:Bi-weekly office hours to give our readers\, and our Documenters program\, a chance to connect with editors\, reporters and Mirror Indy staff.
URL:https://16tech.com/event/mirror-indy-community-office-hours-8/
LOCATION:The AMP\, 1220 Waterway Blvd\, Indianapolis\, IN
END:VEVENT
END:VCALENDAR