

BEGIN:VCALENDAR
VERSION:2.0
PRODID:-//16 Tech - ECPv6.6.4.2//NONSGML v1.0//EN
CALSCALE:GREGORIAN
METHOD:PUBLISH
X-ORIGINAL-URL:https://16tech.com
X-WR-CALDESC:Events for 16 Tech
REFRESH-INTERVAL;VALUE=DURATION:PT1H
X-Robots-Tag:noindex
X-PUBLISHED-TTL:PT1H
BEGIN:VTIMEZONE
TZID:America/Indiana/Indianapolis
BEGIN:DAYLIGHT
TZOFFSETFROM:-0500
TZOFFSETTO:-0400
TZNAME:EDT
DTSTART:20240310T070000
END:DAYLIGHT
BEGIN:STANDARD
TZOFFSETFROM:-0400
TZOFFSETTO:-0500
TZNAME:EST
DTSTART:20241103T060000
END:STANDARD
END:VTIMEZONE
BEGIN:VEVENT
DTSTART;TZID=America/Indiana/Indianapolis:20240928T120000
DTEND;TZID=America/Indiana/Indianapolis:20240928T150000
DTSTAMP:20260425T133816
CREATED:20240820T154653Z
LAST-MODIFIED:20240820T190130Z
UID:227118-1727524800-1727535600@16tech.com
SUMMARY:Boozy Book Fair
DESCRIPTION:Join Loudmouth Books for the first ever Boozy Book Fair! If you’ve been chasing the high of the Scholastic Book Fair since the 4th grade\, we’ve got you covered. The Boozy Book Fair is an opportunity to shop a curated selection of your favorite books from the store alongside all the pens\, prints\, candles\, and tote bags you could dream of. (And unlike in 4th grade\, you don’t even have to use your lunch money to buy them—unless you want to . . . no take backsides’ though!) 
URL:https://16tech.com/event/boozy-book-fair/
LOCATION:The AMP\, 1220 Waterway Blvd\, Indianapolis\, IN
END:VEVENT
END:VCALENDAR