

BEGIN:VCALENDAR
VERSION:2.0
PRODID:-//16 Tech - ECPv6.6.4.2//NONSGML v1.0//EN
CALSCALE:GREGORIAN
METHOD:PUBLISH
X-WR-CALNAME:16 Tech
X-ORIGINAL-URL:https://16tech.com
X-WR-CALDESC:Events for 16 Tech
REFRESH-INTERVAL;VALUE=DURATION:PT1H
X-Robots-Tag:noindex
X-PUBLISHED-TTL:PT1H
BEGIN:VTIMEZONE
TZID:America/Indiana/Indianapolis
BEGIN:DAYLIGHT
TZOFFSETFROM:-0500
TZOFFSETTO:-0400
TZNAME:EDT
DTSTART:20240310T070000
END:DAYLIGHT
BEGIN:STANDARD
TZOFFSETFROM:-0400
TZOFFSETTO:-0500
TZNAME:EST
DTSTART:20241103T060000
END:STANDARD
END:VTIMEZONE
BEGIN:VEVENT
DTSTART;TZID=America/Indiana/Indianapolis:20240827T090000
DTEND;TZID=America/Indiana/Indianapolis:20240827T110000
DTSTAMP:20260421T234834
CREATED:20240820T175221Z
LAST-MODIFIED:20240820T183120Z
UID:227121-1724749200-1724756400@16tech.com
SUMMARY:Raise Your IQ Series
DESCRIPTION:Raise Your IQ: Entrepreneurship in Indianapolis is an engaging and interactive event designed to inspire and empower current and aspiring entrepreneurs! During this event\, you’ll connect with successful entrepreneurs who will share their insights and experiences\, providing valuable guidance on starting and growing a business in Indianapolis. \nWhether you are a budding entrepreneur\, a small business owner\, or someone interested in entrepreneurship\, this event offers something for everyone. You’ll be able to ask questions\, connect with our panelists\, and leave with a larger network of impressive individuals. \nThis event is free to attend\, and all are welcome! \nPanelists include: \nMelanie Allen: CO-Founder & CEO @ Green Loop Marketing \nNicole Carey: CEO @ Indy Equity Collaborative \nMichael Coleman: Volunteer & Outreach Director @ Be Nimble \nMore panelists to come! \nAGENDA: \n9:00 – 9:10 AM: Welcome and Intros \n9:10 – 9:40 AM: Panelist Stories \n9:40 – 10:10 AM: Audience Q&A \n10:10 – 10:20 AM: Closing Remarks \n10:20 – 11:00 AM: Informal Networking w/ Attendees & Panelists
URL:https://16tech.com/event/raise-your-iq-series-entrepreneurship-in-indianapolis/
LOCATION:Office Space – Cafe\, 1220 Waterway Blvd\, Indianapolis\, IN\, 46202\, United States
END:VEVENT
BEGIN:VEVENT
DTSTART;TZID=America/Indiana/Indianapolis:20240827T173000
DTEND;TZID=America/Indiana/Indianapolis:20240827T193000
DTSTAMP:20260421T234834
CREATED:20240731T011542Z
LAST-MODIFIED:20240820T175855Z
UID:227110-1724779800-1724787000@16tech.com
SUMMARY:Rally Happy Hour
DESCRIPTION:Let’s RALLY at 16 Tech! \nJoin us for appetizers\, drinks and music at the AMP at 16 Tech – RALLY’s official networking destination. Connect with convention attendees and meet key players in the local entrepreneurial ecosystem. \nNeed transportation? Shuttles will depart the Indiana Convention Center beginning at 5:00 PM. The last shuttle will depart from the Convention Center at 6:00 PM. Shuttles leave the AMP starting at 6:45 PM and take you to Bicentennial Unity Plaza for the RALLY Rave!
URL:https://16tech.com/event/rally-happy-hour/
LOCATION:The AMP\, 1220 Waterway Blvd\, Indianapolis\, IN
END:VEVENT
END:VCALENDAR