

BEGIN:VCALENDAR
VERSION:2.0
PRODID:-//16 Tech - ECPv6.6.4.2//NONSGML v1.0//EN
CALSCALE:GREGORIAN
METHOD:PUBLISH
X-ORIGINAL-URL:https://16tech.com
X-WR-CALDESC:Events for 16 Tech
REFRESH-INTERVAL;VALUE=DURATION:PT1H
X-Robots-Tag:noindex
X-PUBLISHED-TTL:PT1H
BEGIN:VTIMEZONE
TZID:America/Indiana/Indianapolis
BEGIN:DAYLIGHT
TZOFFSETFROM:-0500
TZOFFSETTO:-0400
TZNAME:EDT
DTSTART:20240310T070000
END:DAYLIGHT
BEGIN:STANDARD
TZOFFSETFROM:-0400
TZOFFSETTO:-0500
TZNAME:EST
DTSTART:20241103T060000
END:STANDARD
END:VTIMEZONE
BEGIN:VEVENT
DTSTART;TZID=America/Indiana/Indianapolis:20240731T090000
DTEND;TZID=America/Indiana/Indianapolis:20240731T220000
DTSTAMP:20260424T133018
CREATED:20240725T175308Z
LAST-MODIFIED:20240725T185856Z
UID:227098-1722416400-1722463200@16tech.com
SUMMARY:Lake City Bank
DESCRIPTION:Lake City Bank Money Smart Meeting.
URL:https://16tech.com/event/lake-city-bank/
LOCATION:The AMP\, 1220 Waterway Blvd\, Indianapolis\, IN
END:VEVENT
BEGIN:VEVENT
DTSTART;TZID=America/Indiana/Indianapolis:20240731T183000
DTEND;TZID=America/Indiana/Indianapolis:20240731T210000
DTSTAMP:20260424T133018
CREATED:20240710T154349Z
LAST-MODIFIED:20240710T154349Z
UID:227071-1722450600-1722459600@16tech.com
SUMMARY:CCA Cornhole
DESCRIPTION:Come to the AMP for a Cornhole Tournament hosted by CCA Sports! This is an adult co-ed recreational cornhole league that you can join as a single player\, a team (2 players)\, or an alumni or corporate team (4+ players).
URL:https://16tech.com/event/cca-cornhole-4/
LOCATION:The AMP\, 1220 Waterway Blvd\, Indianapolis\, IN
ORGANIZER;CN="Circle City Athletics":MAILTO:info@ccasports.com
END:VEVENT
END:VCALENDAR