

BEGIN:VCALENDAR
VERSION:2.0
PRODID:-//16 Tech - ECPv6.6.4.2//NONSGML v1.0//EN
CALSCALE:GREGORIAN
METHOD:PUBLISH
X-WR-CALNAME:16 Tech
X-ORIGINAL-URL:https://16tech.com
X-WR-CALDESC:Events for 16 Tech
REFRESH-INTERVAL;VALUE=DURATION:PT1H
X-Robots-Tag:noindex
X-PUBLISHED-TTL:PT1H
BEGIN:VTIMEZONE
TZID:America/Indiana/Indianapolis
BEGIN:DAYLIGHT
TZOFFSETFROM:-0500
TZOFFSETTO:-0400
TZNAME:EDT
DTSTART:20230312T070000
END:DAYLIGHT
BEGIN:STANDARD
TZOFFSETFROM:-0400
TZOFFSETTO:-0500
TZNAME:EST
DTSTART:20231105T060000
END:STANDARD
END:VTIMEZONE
BEGIN:VEVENT
DTSTART;TZID=America/Indiana/Indianapolis:20231219T180000
DTEND;TZID=America/Indiana/Indianapolis:20231219T210000
DTSTAMP:20260422T083423
CREATED:20231204T163133Z
LAST-MODIFIED:20231204T163133Z
UID:226882-1703008800-1703019600@16tech.com
SUMMARY:FREE Design Seminar: Creating Holiday Ornaments
DESCRIPTION:In this class\, attendees will learn the basics of utilizing a laser cutter and learn how to design and create Holiday Ornaments using a laser. \n \n 
URL:https://16tech.com/event/free-design-seminar-creating-holiday-ornaments/
LOCATION:Machyne Makerspace\, 1220 Waterway Blvd\, Indianapolis
END:VEVENT
END:VCALENDAR