

BEGIN:VCALENDAR
VERSION:2.0
PRODID:-//16 Tech - ECPv6.6.4.2//NONSGML v1.0//EN
CALSCALE:GREGORIAN
METHOD:PUBLISH
X-WR-CALNAME:16 Tech
X-ORIGINAL-URL:https://16tech.com
X-WR-CALDESC:Events for 16 Tech
REFRESH-INTERVAL;VALUE=DURATION:PT1H
X-Robots-Tag:noindex
X-PUBLISHED-TTL:PT1H
BEGIN:VTIMEZONE
TZID:America/Indiana/Indianapolis
BEGIN:DAYLIGHT
TZOFFSETFROM:-0500
TZOFFSETTO:-0400
TZNAME:EDT
DTSTART:20230312T070000
END:DAYLIGHT
BEGIN:STANDARD
TZOFFSETFROM:-0400
TZOFFSETTO:-0500
TZNAME:EST
DTSTART:20231105T060000
END:STANDARD
END:VTIMEZONE
BEGIN:VEVENT
DTSTART;TZID=America/Indiana/Indianapolis:20230621T160000
DTEND;TZID=America/Indiana/Indianapolis:20230621T190000
DTSTAMP:20260425T170525
CREATED:20230522T181448Z
LAST-MODIFIED:20230522T181448Z
UID:226674-1687363200-1687374000@16tech.com
SUMMARY:Fast Forward\, Volume II
DESCRIPTION:FAST FORWARD TO A LIFE IN INDY \nCalling all summer interns and early-in-career professionals! The intern event of the summer is back and better than ever\, and we’re ready to showcase all that is great about living in the Indy region. Have you considered what life in Indy could look like for your future? Join hundreds of fellow interns and early-in-career professionals from across our region as we share the culture and opportunities of Indy. Expect local music\, food\, and experiences you’ll only find here. The best part? It’s completely FREE! \n  \nSO\, WHAT IS FAST FORWARD ANYWAY? \nFast Forward was designed to offer an immersive experience for interns and early-career individuals in Central Indiana\, showcasing Indy’s distinct culture and opportunities. By introducing these individuals to the region’s unique arts\, music\, culture\, and local organizations\, interns will walk away with a positive impression of Indy\, increasing the likelihood of them choosing it as their future home after graduation. \nInternships are often a front door to careers. Let us be the front door to the community. \n  \nWHAT IT IS NOT: A JOB FAIR. \nFast Forward is not a job fair. Yes\, a table setup is okay\, but this isn’t an event to bring recruiters and job openings. We encourage our partners to think creatively about how to engage with attendees in a memorable way. In the past\, we’ve seen success with ideas like inviting young professionals who are Indy transplants to represent your organization\, creating an interactive board with engaging questions for interns to answer\, offering raffle opportunities\, inviting local athletes to play cornhole and mingle\, or even setting up a selfie station. Accelerate your creativity into top gear! \nWhile this experience may be free to attend\, its value is off the charts. But don’t take our word for it—see for yourself: \n 
URL:https://16tech.com/event/fast-forward-volume-ii/
LOCATION:The AMP\, 1220 Waterway Blvd\, Indianapolis\, IN
END:VEVENT
END:VCALENDAR