

BEGIN:VCALENDAR
VERSION:2.0
PRODID:-//16 Tech - ECPv6.6.4.2//NONSGML v1.0//EN
CALSCALE:GREGORIAN
METHOD:PUBLISH
X-ORIGINAL-URL:https://16tech.com
X-WR-CALDESC:Events for 16 Tech
REFRESH-INTERVAL;VALUE=DURATION:PT1H
X-Robots-Tag:noindex
X-PUBLISHED-TTL:PT1H
BEGIN:VTIMEZONE
TZID:America/Indiana/Indianapolis
BEGIN:DAYLIGHT
TZOFFSETFROM:-0500
TZOFFSETTO:-0400
TZNAME:EDT
DTSTART:20230312T070000
END:DAYLIGHT
BEGIN:STANDARD
TZOFFSETFROM:-0400
TZOFFSETTO:-0500
TZNAME:EST
DTSTART:20231105T060000
END:STANDARD
END:VTIMEZONE
BEGIN:VEVENT
DTSTART;TZID=America/Indiana/Indianapolis:20230616T160000
DTEND;TZID=America/Indiana/Indianapolis:20230616T200000
DTSTAMP:20260421T193031
CREATED:20230522T180649Z
LAST-MODIFIED:20230522T180649Z
UID:226672-1686931200-1686945600@16tech.com
SUMMARY:Champions Brew Soft Launch
DESCRIPTION:World Heavyweight Champion Lamon Brewster\, Indiana’s only World Heavyweight Champion\, is turning 50! For Lamon’s 50th birthday we are so excited to announce his co-branding partnership with the Tinker Coffee Co. This cobranding is called the “Champions Brew”. This brand is powered by Brewster’s Place. Brewster’s Place recognizes the many challenges that life presents and has a strong desire to reach out\, connect\, and offer programs\, services\, and mentoring to help those we serve to navigate life and win. We will be doing a heavy press release to all community leaders\, politicians\, businesses\, first responders and fight fans far and wide! “Come and have a cup of coffee with the Champ!”  This event is designed to create an opportunity for dialogue to help create a better future for our community. We know that tomorrow depends on what we do today!
URL:https://16tech.com/event/champions-brew-soft-launch/
LOCATION:The AMP\, 1220 Waterway Blvd\, Indianapolis\, IN
ORGANIZER;CN="Champions Brew/Brewester's Place":MAILTO:iamgeniusnation@gmail.com
END:VEVENT
END:VCALENDAR