

BEGIN:VCALENDAR
VERSION:2.0
PRODID:-//16 Tech - ECPv6.6.4.2//NONSGML v1.0//EN
CALSCALE:GREGORIAN
METHOD:PUBLISH
X-WR-CALNAME:16 Tech
X-ORIGINAL-URL:https://16tech.com
X-WR-CALDESC:Events for 16 Tech
REFRESH-INTERVAL;VALUE=DURATION:PT1H
X-Robots-Tag:noindex
X-PUBLISHED-TTL:PT1H
BEGIN:VTIMEZONE
TZID:America/Indiana/Indianapolis
BEGIN:DAYLIGHT
TZOFFSETFROM:-0500
TZOFFSETTO:-0400
TZNAME:EDT
DTSTART:20230312T070000
END:DAYLIGHT
BEGIN:STANDARD
TZOFFSETFROM:-0400
TZOFFSETTO:-0500
TZNAME:EST
DTSTART:20231105T060000
END:STANDARD
END:VTIMEZONE
BEGIN:VEVENT
DTSTART;TZID=America/Indiana/Indianapolis:20230609T090000
DTEND;TZID=America/Indiana/Indianapolis:20230609T100000
DTSTAMP:20260419T160517
CREATED:20230608T212044Z
LAST-MODIFIED:20230608T212044Z
UID:226692-1686301200-1686304800@16tech.com
SUMMARY:16 Tech Q2 Community Meeting
DESCRIPTION:Grab your coffee and tune in! You’ll hear updates on exciting District happenings and learn more about what’s ahead for the 16 Tech Innovation District.
URL:https://16tech.com/event/16-tech-q2-community-meeting/
LOCATION:Virtual
END:VEVENT
BEGIN:VEVENT
DTSTART;TZID=America/Indiana/Indianapolis:20230609T180000
DTEND;TZID=America/Indiana/Indianapolis:20230609T210000
DTSTAMP:20260419T160517
CREATED:20230524T215727Z
LAST-MODIFIED:20230524T215727Z
UID:226676-1686333600-1686344400@16tech.com
SUMMARY:Pre-Pride Party
DESCRIPTION:Join us for a mixer\, meet and greet event for our rPride members and associates participating in Indy Pride. \n  \n \n  \n 
URL:https://16tech.com/event/pre-pride-party/
LOCATION:The AMP\, 1220 Waterway Blvd\, Indianapolis\, IN
END:VEVENT
END:VCALENDAR