

BEGIN:VCALENDAR
VERSION:2.0
PRODID:-//16 Tech - ECPv6.6.4.2//NONSGML v1.0//EN
CALSCALE:GREGORIAN
METHOD:PUBLISH
X-WR-CALNAME:16 Tech
X-ORIGINAL-URL:https://16tech.com
X-WR-CALDESC:Events for 16 Tech
REFRESH-INTERVAL;VALUE=DURATION:PT1H
X-Robots-Tag:noindex
X-PUBLISHED-TTL:PT1H
BEGIN:VTIMEZONE
TZID:America/Indiana/Indianapolis
BEGIN:DAYLIGHT
TZOFFSETFROM:-0500
TZOFFSETTO:-0400
TZNAME:EDT
DTSTART:20230312T070000
END:DAYLIGHT
BEGIN:STANDARD
TZOFFSETFROM:-0400
TZOFFSETTO:-0500
TZNAME:EST
DTSTART:20231105T060000
END:STANDARD
END:VTIMEZONE
BEGIN:VEVENT
DTSTART;TZID=America/Indiana/Indianapolis:20230608T173000
DTEND;TZID=America/Indiana/Indianapolis:20230608T193000
DTSTAMP:20260419T160421
CREATED:20230527T022335Z
LAST-MODIFIED:20230527T022335Z
UID:226681-1686245400-1686252600@16tech.com
SUMMARY:CNC Waterjet Training Session
DESCRIPTION:In this class\, you’ll have the choice of creating a custom bottle opener\, a small sign (up to 4″ x 6″)\, or custom earrings! We have a variety of premade vectors to choose from & to customize\, however\, students are able to bring their own vector files. \nAdditionally\, students will be certified on the use of the CNC Waterjet Cutter at Machyne. You’ll learn how to design for the waterjet cutter\, what its specs are\, how to fixture ceramic\, metal\, and other materials to the bed\, and how to cut your designs. This class is intended for beginners\, but advanced users will learn some tips and tricks too. \n 
URL:https://16tech.com/event/cnc-waterjet-training-session-8/
LOCATION:Machyne Makerspace\, 1220 Waterway Blvd\, Indianapolis
END:VEVENT
BEGIN:VEVENT
DTSTART;TZID=America/Indiana/Indianapolis:20230608T180000
DTEND;TZID=America/Indiana/Indianapolis:20230608T210000
DTSTAMP:20260419T160421
CREATED:20230522T174054Z
LAST-MODIFIED:20230522T174054Z
UID:226667-1686247200-1686258000@16tech.com
SUMMARY:PinVault Tournament
DESCRIPTION:  \n  \n  \n  \n \nEvery Second Thursday of the Month the Escape Pod hosts an IFPA-sanctioned four-strike pinball tournament at The AMP! It’ll be your time to shine and rise up through the ranks to become #1!\n\n\nAll ages. Cash prizes. $10 entry fee. Games on coin drop. Come early and enjoy a number of great food vendor options and drinks from the bar.
URL:https://16tech.com/event/pinvault-tournament-3/
LOCATION:The AMP\, 1220 Waterway Blvd\, Indianapolis\, IN
END:VEVENT
BEGIN:VEVENT
DTSTART;TZID=America/Indiana/Indianapolis:20230608T180000
DTEND;TZID=America/Indiana/Indianapolis:20230608T220000
DTSTAMP:20260419T160421
CREATED:20230522T173904Z
LAST-MODIFIED:20230522T173904Z
UID:226666-1686247200-1686261600@16tech.com
SUMMARY:Rock Garage
DESCRIPTION:Bring your friends and listen to some good tunes!
URL:https://16tech.com/event/rock-garage-5/
LOCATION:The AMP\, 1220 Waterway Blvd\, Indianapolis\, IN
END:VEVENT
END:VCALENDAR