

BEGIN:VCALENDAR
VERSION:2.0
PRODID:-//16 Tech - ECPv6.6.4.2//NONSGML v1.0//EN
CALSCALE:GREGORIAN
METHOD:PUBLISH
X-ORIGINAL-URL:https://16tech.com
X-WR-CALDESC:Events for 16 Tech
REFRESH-INTERVAL;VALUE=DURATION:PT1H
X-Robots-Tag:noindex
X-PUBLISHED-TTL:PT1H
BEGIN:VTIMEZONE
TZID:America/Indiana/Indianapolis
BEGIN:DAYLIGHT
TZOFFSETFROM:-0500
TZOFFSETTO:-0400
TZNAME:EDT
DTSTART:20230312T070000
END:DAYLIGHT
BEGIN:STANDARD
TZOFFSETFROM:-0400
TZOFFSETTO:-0500
TZNAME:EST
DTSTART:20231105T060000
END:STANDARD
END:VTIMEZONE
BEGIN:VEVENT
DTSTART;TZID=America/Indiana/Indianapolis:20230606T173000
DTEND;TZID=America/Indiana/Indianapolis:20230606T193000
DTSTAMP:20260419T113825
CREATED:20230527T022131Z
LAST-MODIFIED:20230527T022131Z
UID:226680-1686072600-1686079800@16tech.com
SUMMARY:Woodworking Training Session
DESCRIPTION:In this class\, students will learn basic woodworking terminology\, shop policies\, general rules\, safety\, and proper use of woodworking equipment. This will be learned through a Woodshop Overview PowerPoint\, a Safety Walkthrough\, and a hands-on experience utilizing the woodshop tools to process rough-sawn lumber into milled lumber using basic woodworking techniques to create a custom charcuterie board! \n 
URL:https://16tech.com/event/woodworking-training-session-8/
LOCATION:Machyne Makerspace\, 1220 Waterway Blvd\, Indianapolis
END:VEVENT
BEGIN:VEVENT
DTSTART;TZID=America/Indiana/Indianapolis:20230606T180000
DTEND;TZID=America/Indiana/Indianapolis:20230606T200000
DTSTAMP:20260419T113825
CREATED:20230522T173610Z
LAST-MODIFIED:20230522T173610Z
UID:226665-1686074400-1686081600@16tech.com
SUMMARY:Take Care Tuesday
DESCRIPTION:The Take Care Life Coaching Organization was created to empower our audience with the tools necessary to increase the quality of their lives by providing resources to aid in identifying the life they desire\, becoming who and what they were designed to be\, building personal growth plans\, and habits that create systems for their success. We provide teaching\, training\, and mentoring to ensure that our community reaches the following milestone: \n\nLive a life of Purpose\nLearn to Adopt a Growth Mindset\nMaster Time Management\nMaster Relationships\n\n 
URL:https://16tech.com/event/take-care-tuesday-5/
LOCATION:The AMP\, 1220 Waterway Blvd\, Indianapolis\, IN
END:VEVENT
END:VCALENDAR