

BEGIN:VCALENDAR
VERSION:2.0
PRODID:-//16 Tech - ECPv6.6.4.2//NONSGML v1.0//EN
CALSCALE:GREGORIAN
METHOD:PUBLISH
X-ORIGINAL-URL:https://16tech.com
X-WR-CALDESC:Events for 16 Tech
REFRESH-INTERVAL;VALUE=DURATION:PT1H
X-Robots-Tag:noindex
X-PUBLISHED-TTL:PT1H
BEGIN:VTIMEZONE
TZID:America/Indiana/Indianapolis
BEGIN:DAYLIGHT
TZOFFSETFROM:-0500
TZOFFSETTO:-0400
TZNAME:EDT
DTSTART:20230312T070000
END:DAYLIGHT
BEGIN:STANDARD
TZOFFSETFROM:-0400
TZOFFSETTO:-0500
TZNAME:EST
DTSTART:20231105T060000
END:STANDARD
END:VTIMEZONE
BEGIN:VEVENT
DTSTART;TZID=America/Indiana/Indianapolis:20230528T073000
DTEND;TZID=America/Indiana/Indianapolis:20230528T110000
DTSTAMP:20260423T121649
CREATED:20230427T143516Z
LAST-MODIFIED:20230525T190404Z
UID:226652-1685259000-1685271600@16tech.com
SUMMARY:Bike to the Indy 500
DESCRIPTION:  \n \n  \n  \n  \nDon’t sit in traffic when you can pedal past the crowds on an escorted route and park at the Indianapolis Motor Speedway. Join us at the AMP at 16 Tech on Sunday\, May 28th and Bike to the 500! \nWe’ll begin the last Porch Party in May on the near northwest side. Food purveyors in the AMP will have delicious food to provide enough sustenance to get you through the six mile ride to the track. The following vendors will be open: Yamallama\, Tortilla\, Healthy Soul\, Beast\, Tinker and Scoopz. \nCheck in will begin at 7:30 and the ride will depart for the IMS at 9:30. Ride with several hundred others to the Indianapolis Motor Speedway where your bicycle will be parked and monitored while you enjoy the Greatest Spectacle in Racing. You will not need to lock your bicycle. \nYou will park your bike near Gate One at the Racing Capital of the World. This is as close as it gets to all of Race Day’s most exciting action. \nTickets are $20.00 in advance and $25 the day of the event. Children 15 and under ride for free with a paid adult. Race Day ticket sales end at 9:00.* \nBike parking becomes unattended at 4:30pm. Please plan to collect your bike by then. This event does not include a ticket to the Indianapolis 500 race. You’ll have to purchase that on your own. Be sure you have a race ticket before registering for the ride. \n*The ticket price ensures a safe ride to the event\, secure bike parking all day and supports Bike Indianapolis in its mission to make more bike riders in central Indiana. Return trips from the IMS are not supported\, but groups will depart during the first 30 minutes after the race ends.
URL:https://16tech.com/event/bike-to-the-indy-500/
LOCATION:The AMP\, 1220 Waterway Blvd\, Indianapolis\, IN
END:VEVENT
END:VCALENDAR