

BEGIN:VCALENDAR
VERSION:2.0
PRODID:-//16 Tech - ECPv6.6.4.2//NONSGML v1.0//EN
CALSCALE:GREGORIAN
METHOD:PUBLISH
X-ORIGINAL-URL:https://16tech.com
X-WR-CALDESC:Events for 16 Tech
REFRESH-INTERVAL;VALUE=DURATION:PT1H
X-Robots-Tag:noindex
X-PUBLISHED-TTL:PT1H
BEGIN:VTIMEZONE
TZID:America/Indiana/Indianapolis
BEGIN:DAYLIGHT
TZOFFSETFROM:-0500
TZOFFSETTO:-0400
TZNAME:EDT
DTSTART:20230312T070000
END:DAYLIGHT
BEGIN:STANDARD
TZOFFSETFROM:-0400
TZOFFSETTO:-0500
TZNAME:EST
DTSTART:20231105T060000
END:STANDARD
END:VTIMEZONE
BEGIN:VEVENT
DTSTART;TZID=America/Indiana/Indianapolis:20230315T173000
DTEND;TZID=America/Indiana/Indianapolis:20230315T193000
DTSTAMP:20260423T125654
CREATED:20230130T212145Z
LAST-MODIFIED:20230130T212145Z
UID:226479-1678901400-1678908600@16tech.com
SUMMARY:CNC Plasma Cutting Training Session
DESCRIPTION:  \n  \n \n  \nIn this class\, you will have the opportunity to create your own custom sign-up to 12″ x 24″ out of 16-Gauge mild steel. Additionally\, you’ll become certified in the use of the STV CNC Plasma cutter at Machyne Makerspacee. \nThe table is 48”x96”\, and the torch is a Hypertherm65\, which allows the cutting of up to ½” thick steel. You will learn how to take a 2D vector design and convert it to the CAM file necessary for the plasma table. The different types of lead-in/lead-out cut paths will be discussed\, as well as the difference in kerf (thickness of your cutting lines) based on material thickness\, amperage\, and plasma cutter tips. Different design techniques specific to CNC plasma cutting will be discussed\, such as stenciling 2D designs\, or taking 3D designs and converting them into 2D patterns which can then be plasma cut in 2D and then folded on a brake or with hand tools into a 3D shape. The Hypertherm65 can cut mild steel\, stainless steel\, and aluminum.
URL:https://16tech.com/event/cnc-plasma-cutting-training-session-2/
LOCATION:Machyne Makerspace\, 1220 Waterway Blvd\, Indianapolis
END:VEVENT
END:VCALENDAR